BEGIN:VCALENDAR
VERSION:2.0
PRODID:-//wp-events-plugin.com//6.4.7.3//EN
TZID:Asia/Bangkok
X-WR-TIMEZONE:Asia/Bangkok
BEGIN:VEVENT
UID:501@menthanhgiahanoi.org
DTSTART;TZID=Asia/Bangkok:20260628T000000
DTEND;TZID=Asia/Bangkok:20260628T005900
DTSTAMP:20260313T022543Z
URL:https://menthanhgiahanoi.org/events/chua-nhat-xiii-thuong-nien-a/
SUMMARY:Chúa Nhật XIII thường niên A
DESCRIPTION:Dẫn vào Thánh lễ\n\nAnh chị em thần mến! Làm môn 
 đệ Chúa Kitô là đặt Ngài trên hết mọi sự\, quên cả nh
 ững người mà ta yêu mến nhất\, trên cả mạng sống của t
 a: chính là vác thập giá mình mà theo Ngài\, chính là sẵn sà
 ng chết cho Ngài\, sẵn sàng mở rộng cõi lòng đón tiếp ngư
 ời anh em như chính Chúa Kitô. Và vì thế\, trong buổi họp m
 ừng Chúa Phục Sinh hôm nay\, chúng ta được mời gọi hãy ý 
 thức lại một lần nữa sứ mệnh và những đòi hỏi của n
 gười môn đệ Chúa Kitô. Chúng ta hãy tẩy sạch tâm hồn kh
 ỏi mọi tội lỗi để xứng đáng cho buổi họp mừng này.\n
 \nCa nhập lễ\n\nHết thảy chư dân\, hãy vỗ tay\, hãy reo mừ
 ng Thiên Chúa với tiếng reo vui.\n\nLời nguyện nhập lễ\n\nL
 ạy Chúa\, Chúa đã dủ lòng thương nhận chúng con làm nghĩa 
 tử để chúng con trở thành con cái ánh sáng\; xin đừng để
  chúng con sa vào cảnh tối tăm lầm lạc nhưng gìn giữ chúng
  con luôn rạng ngời ánh sáng chân lý Chúa. Chúng con cầu xin
 …\n\nBài Ðọc I: 2 V 4\, 8-11. 14-16a\n\n“Người đến trọ nh
 à mình\, là một vị thánh của Thiên Chúa”.\n\nTrích sách C
 ác Vua quyển thứ hai.\n\nMột ngày nọ\, Êlisê đi ngang qua mi
 ền Sunam. Ở đó có một bà sang trọng mời ông ở lại dùng
  bữa. Và từ đấy\, mỗi khi ông đi ngang qua đó\, ông đều 
 đến nhà bà dùng bữa. Bà nói với chồng bà rằng: “Tôi bi
 ết rằng người thường trọ nhà mình là một vị thánh củ
 a Thiên Chúa. Vậy chúng ta hãy làm cho ông một căn phòng trên
  lầu\, và đặt trong căn phòng đó một cái giường\, một c
 ái bàn\, một cái ghế\, và một cây đèn\, để mỗi khi đế
 n\, ông ở đó”.\n\nMột ngày nọ Êlisê đến\, ông lên căn 
 phòng trên lầu và nghỉ tại đó. Ông nói (với Giêzê\, tiể
 u đồng của ông): “Bà muốn chúng ta làm gì cho bà?” Giêz
 ê nói rằng: “Thầy khỏi hỏi\, bà ấy không có con\, và ch
 ồng bà đã già”. Êlisê bảo gọi bà ta. Nghe gọi\, bà liề
 n đến đứng trước cửa\, ông nói với bà rằng: “Năm tớ
 i cũng vào thời kỳ này\, bà sẽ bồng bế một bé trai”.\n\
 nÐó là lời Chúa.\n\nÐáp Ca: Tv 88\, 2-3. 16-17. 18-19\n\nÐáp: L
 ạy Chúa\, con sẽ ca ngợi tình thương của Chúa tới muôn đ
 ời.\n\nXướng: Con sẽ ca ngợi tình thương của Chúa tới mu
 ôn đời\, qua mọi thế hệ miệng con loan truyền lòng trung th
 ành Chúa. Vì Ngài đã phán: “Tình thương của Ta đứng vữn
 g muôn đời”\; trên cõi trời cao\, Ngài thiết lập lòng trun
 g tín. – Ðáp.\n\nXướng: Phúc thay dân tộc biết hân hoan\, l
 ạy Chúa\, họ tiến thân trong ánh sáng nhan Ngài. Họ luôn lu
 ôn mừng rỡ vì danh Chúa\, và tự hào vì đức công minh Ngài
 . – Ðáp.\n\nXướng: Vì Chúa là vinh quang quyền năng của h
 ọ\; nhờ ân huệ Chúa\, uy quyền của chúng tôi được suy t
 ôn. Bởi chưng khiên thuẫn chúng tôi là của Chúa\, và vua ch
 úng tôi thuộc về Ðấng Thánh của Israel. – Ðáp.\n\nBài Ð
 ọc II: Rm 6\, 3-4. 8-11\n\n“Chúng ta chịu mai táng với Ngài nh
 ờ phép rửa\, chúng ta phải sống đời sống mới”.\n\nTríc
 h thư Thánh Phaolô Tông đồ gửi tín hữu Rôma.\n\nAnh em thân 
 mến\, tất cả chúng ta đã chịu phép rửa trong Ðức Kitô\, 
 tức là đã chịu phép rửa trong sự chết của Người. Và ch
 úng ta đã cùng chịu mai táng với Người\, bởi vì được th
 anh tẩy trong sự chết của Người\, để như Ðức Kitô nhờ
  vinh hiển của Chúa Cha mà sống lại từ cõi chết thế nào\
 , thì cả chúng ta cũng phải sống đời sống mới như thế. 
 Mà nếu chúng ta đã chết với Ðức Kitô\, chúng ta tin rằng:
  chúng ta cũng sẽ cùng sống với Người\, vì biết rằng Ð
 ức Kitô một khi từ cõi chết sống lại\, Người không chế
 t nữa\, sự chết không còn làm chủ được Người nữa. Ngư
 ời đã chết\, tức là chết một lần dứt khoát đối với 
 tội lỗi\, mà khi Người sống\, là sống cho Thiên Chúa. Cả 
 anh em cũng thế\, anh em hãy tự kể như mình đã chết đối v
 ới tội lỗi\, nhưng sống cho Thiên Chúa\, trong Ðức Giêsu Ki
 tô\, Chúa chúng ta.\n\nÐó là lời Chúa.\n\nAlleluia: 1 Pr 2\,9\n\
 nAlleluia\, alleluia! – Anh em là giống nòi được tuyển chọn\
 , là hàng tư tế vương giả\, là dân thánh\, để loan truyền
  những kỳ công của Thiên Chúa\, Đấng đã gọi anh em ra kh
 ỏi miền u tối\, vào nơi đầy ánh sáng diệu huyền. Alleluia
 .\n\nPhúc Âm: Mt 10\, 37-42\n\n“Kẻ nào không mang lấy thập gi
 á\, thì không xứng đáng với Thầy\; kẻ nào tiếp đón các 
 con\, là tiếp đón Thầy”.\n\nTin Mừng Chúa Giêsu Kitô theo Th
 ánh Matthêu.\n\nKhi ấy\, Chúa Giêsu phán cùng các tông đồ r
 ằng: “Kẻ nào yêu mến cha mẹ hơn Thầy\, thì chẳng xứng 
 đáng với Thầy\, và kẻ nào yêu mến con trai\, con gái hơn Th
 ầy\, thì không xứng đáng với Thầy. Kẻ nào cố tìm mạng 
 sống mình thì sẽ mất\, và kẻ nào đành mất mạng sống m
 ình vì Thầy\, thì sẽ tìm lại được nó.\n\n“Kẻ nào đón
  tiếp các con là đón tiếp Thầy\; và kẻ nào đón tiếp Th
 ầy\, là đón tiếp Ðấng đã sai Thầy. Kẻ nào đón tiếp m
 ột tiên tri với danh nghĩa là tiên tri\, thì sẽ lãnh phần th
 ưởng của tiên tri\; và kẻ nào đón tiếp người công chính
  với danh nghĩa người công chính\, thì sẽ lãnh phần thưởn
 g của người công chính. Kẻ nào cho một trong những người 
 bé mọn này uống chỉ một bát nước lã mà thôi với danh ng
 hĩa là môn đệ\, thì quả thật\, Thầy nói với các con\, ng
 ười ấy không mất phần thưởng đâu”.\n\nÐó là lời Chú
 a.\n\nLời nguyện tín hữu\n\nChủ tế: Anh chị em thân mến! 
 Là môn đệ của Chúa Kitô\, chúng ta được mời gọi hãy t
 ừ bỏ mình vác thập giá hằng ngày mà theo Người. Với quy
 ết tâm dấn thân theo Chúa\, chúng ta cùng dâng lời nguyện xi
 n:\n\n1. “Tôi biết rằng người thường trọ nhà mình là m
 ột vị Thánh của Thiên Chúa”.- Xin Chúa thánh hoá các vị l
 ãnh đạo dân Chúa để các ngài luôn sống thánh thiện\, gư
 ơng mẫu. Nhờ đó lời giảng dạy của các ngài có sức cu
 ốn hút nhiều người tìm đến Chúa.\n\n2. “Ai không vác Th
 ập giá mình mà theo Ta\, không xứng đáng với Ta”\,- Xin cho 
 các gia đình Kitô hữu biết vui nhận thánh giá Chúa gửi đ
 ến qua đời sống hằng ngày\, để có thể đáp trả một ph
 ần nào tình yêu của Thiên Chúa đã gọi từ hư vô và còn c
 ho sống trong Hội Thánh.\n\n3. “Ai đành mất mạng sống vì T
 hầy sẽ được lại nó”\,- Xin Chúa giúp những người hiế
 n thân vì Chúa luôn ý thức vai trò chứng nhân của mình trư
 ớc mặt dân Chúa\, để biết không ngừng canh tân lòng yêu m
 ến Chúa\, và sẵn sàng hy sinh mọi sự vì Chúa.\n\n4. “Nếu 
 chúng ta đã chết với Đức Kitô\, chúng ta sẽ cùng sống v
 ới Người”.- Xin cho cộng đoàn giáo xứ chúng ta biết vui n
 hận những nghịch cảnh của đời sống\, để cùng với Đ
 ức Kitô đi qua đau khổ\, sự chết và bứơc vào sự sống m
 uôn đời.\n\nChủ tế: Lạy Chúa\, cuộc đời chúng con đư
 ợc như hôm nay là do hy sinh của bao người. Xin cho chúng con n
 hận ra Đức Kitô nơi những người nghèo khổ\, để biết qu
 ảng đại giúp lại những anh chị em đó\, như cách thế tíc
 h góp kho tàng nơi Quê Trời. Chúng con cầu xin nhờ Đức Kitô
  Chúa chúng con.\n\nLời nguyện tiến lễ\n\nLạy Chúa\, Chúa d
 ùng các bí tích để ban phát ơn cứu độ\; xin cho cộng đoà
 n chúng con biết cử hành lễ tế thờ phượng này với tinh t
 hần phục vụ của Ðức Kitô. Người hằng sống và hiển tr
 ị muôn đời.\n\nCa hiệp lễ\n\nLinh hồn tôi ơi\, hãy chúc t
 ụng Chúa\, và toàn thể con người tôi hãy chúc tụng thánh d
 anh Người.\n\nHoặc đọc:\n\nChúa nguyện rằng: Lạy Cha\, Con 
 cầu xin cho chúng\, để chúng nên một như Ta\, hầu thế gian 
 tin rằng Cha đã sai Con.\n\nLời nguyện hiệp lễ\n\nLạy Thiên
  Chúa từ bi nhân hậu\, chúng con vừa dâng lễ tạ ơn và đã
  được rước Mình và Máu Con Chúa là nguồn mạch sức sống
  dồi dào\; xin cho chúng con hằng gắn bó cùng Chúa để sinh h
 oa quả tồn tại đến muôn đời. Chúng con cầu xin…\n\nSuy n
 iệm\nNGƯỜI MÔN ĐỆ CHÚA KITÔ\nĐTGM. Giuse Ngô Quang Kiệt\nCh
 uẩn bị nhân sự tiếp nối công việc truyền giáo ở trần 
 gian\, Chúa Giêsu đã tuyển chọn các môn đệ. Tuyển chọn r
 ồi Chúa còn đào tạo để các ngài nên những chứng nhân tr
 ung thành của Chúa. Hôm nay\, Chúa nêu lên những đức tính c
 ần thiết của người môn đệ.\n\nNgười môn đệ của Chúa
  phải có tâm hồn quảng đại.\n\nTiên tri Elisêô đã hào ph
 óng đối với gia đình tiếp đón Ngài. Tiên tri là hình ảnh
  đẹp về các môn đệ của Chúa. Người môn đệ là đại d
 iện cho Đấng sai mình. Người đại diện tốt phải là ngư
 ời trình bày được dung mạo của Đấng sai mình. Chúa Giêsu
 \, Đấng sai ta là người vô cùng rộng lượng. Người đến 
 trần gian không phải để thu tích mà để ban phát. Trọn cu
 ộc đời\, Người ban phát không biết mệt mỏi. Người đế
 n không phải để xét xử\, luận phạt\, nhưng để tha thứ. 
 Người tha thứ một cách dễ dàng cho tất cả những tội nh
 ân đến với Người. Người đến không phải để giết ch
 ết\, nhưng là để cứu chữa. Người đến cho ta được số
 ng và sống dồi dào. Người môn đệ của Chúa cũng phải có
  tâm hồn quảng đại\, rộng lượng\, bao dung như Chúa.\n\nNg
 ười môn đệ của Chúa phải sống khiêm nhường.\n\nTrong bà
 i Tin Mừng hôm nay\, Chúa Giêsu gọi các môn đệ là những ng
 ười bé mọn. Chống lại những thói kiêu căng\, phô trương\
 , Chúa Giêsu luôn thao thức sao cho các môn đệ của Người tr
 ở nên bé nhỏ\, khiêm nhường. Bé nhỏ trong tâm tình đạo 
 đức để phó thác mọi sự trong tay Cha. Bé nhỏ về của c
 ải\, đừng mang "hai áo\, mang theo túi tiền". Bé nhỏ trong cá
 ch cư xử với nhau\, đừng tranh giành chỗ nhất\, nhưng hãy c
 họn chỗ chót. Bé nhỏ để quỳ xuống phục vụ: "như Thầy
  đã rửa chân cho các con\, các con hãy rửa chân cho nhau". Bé 
 nhỏ để sau khi làm mọi việc rồi\, hãy nhận mình là "tôi 
 tớ vô duyên bất tài".\n\nNgười môn đệ của Chúa phải bi
 ết tập trung vào Chúa Kitô.\n\nNgười môn đệ là người ch
 ọn Chúa Kitô làm lý tưởng. Người môn đệ cũng là người
  đi làm chứng về Chúa Kitô. Vì thế mọi lời ăn tiếng nói
 \, cả đến tâm tư tình cảm cũng phải qui hướng về Chúa K
 itô. Chúa Kitô phải chiếm vị trí ưu việt trong tâm hồn ng
 ười môn đệ. Nói thế không có nghĩa là người môn đệ ch
 ối bỏ mọi tình cảm chính đáng\, dứt lìa những mối liên
  hệ gia đình. Nhưng có nghĩa là từ nay người môn đệ có y
 êu thương ai thì cũng là yêu thương trong tình yêu của Chúa 
 Kitô và bằng tình yêu của Chúa Kitô.\n\nNgười môn đệ củ
 a Chúa sống cho Chúa và chết cho Chúa.\n\nChúa Giêsu không số
 ng vì mình và cho mình. Người luôn sống vì và cho người kh
 ác. Người sống vì Chúa Cha và cho Chúa Cha. Nên mọi việc Ng
 ười làm đều vì Chúa Cha và cho Chúa Cha. Người là tình yê
 u hoàn hảo dâng tặng Chúa Cha. Nên Người đã "vâng lời Chú
 a Cha cho đến chết và chết trên thập giá". Người sống vì
  con người và cho con người. Nên người đã ban tặng chính s
 ự sống của Người cho nhân loại\, đã hiến mạng sống là
 m giá cứu chuộc nhân loại.\n\nNên thánh Phaolô khuyên người
  môn đệ của Chúa hãy bắt chước Chúa mà chịu phép rửa t
 rong sự chết của Chúa Kitô. Hãy yêu mến\, sống cho Chúa và
  chết cho Chúa. Chắc chắn ta không chết một lần\, nhưng s
 ẽ chết dần mòn. Chết cho tội lỗi để không bao giờ phạ
 m tội nữa. Chết trong quên mình âm thầm. Chết trong những h
 y sinh nhỏ bé. Chết trong nhiệt thành phục vụ nước Chúa. C
 hính khi chết đi như vậy\, ta lại được một sự sống mớ
 i tràn ngập tâm hồn\, sự sống sung mãn\, phong phú của Thiê
 n Chúa. Chỉ có những ai đã trải qua cái chết\, mới cảm ng
 hiệm được sự sống ấy. Thánh Phanxicô chắc chắn đã tr
 ải qua cuộc lột xác ấy nên mới thốt ra được những lờ
 i bất hủ: "Chính lúc chết đi\, là khi vui sống muôn đời". 
 Vì thế thánh nhân đã trở nên môn đệ đích thực của Chú
 a Kitô.\n\nLạy Chúa Kitô\, xin thanh luyện tâm hồn con\, để c
 on xứng đáng là môn đệ của Chúa.\n\nKIỂM ĐIỂM ĐỜI SỐ
 NG\n\n1. Chúa Giêsu muốn cho môn đệ của Chúa có những phẩm
  chất nào?\n\n2. Những gì Chúa Giêsu đòi hỏi các môn đệ\,
  Người có thực hành không?\n\n3. Đào tạo nhân sự cho Hội 
 Thánh. Bạn nghĩ đến việc này thế nào? Quan tâm? Giúp đỡ?
  Đóng góp?\n\n&nbsp\;\n\n&nbsp\;
ATTACH;FMTTYPE=image/jpeg:https://menthanhgiahanoi.org/wp-content/uploads/
 2026/02/Chua-nhat-13-A.jpg
CATEGORIES:Lời Chúa hàng ngày,Tuần XIII Thường niên
END:VEVENT
BEGIN:VTIMEZONE
TZID:Asia/Bangkok
X-LIC-LOCATION:Asia/Bangkok
BEGIN:STANDARD
DTSTART:20250628T000000
TZOFFSETFROM:+0700
TZOFFSETTO:+0700
TZNAME:+07
END:STANDARD
END:VTIMEZONE
END:VCALENDAR