BEGIN:VCALENDAR
VERSION:2.0
PRODID:-//wp-events-plugin.com//6.4.7.3//EN
TZID:Asia/Bangkok
X-WR-TIMEZONE:Asia/Bangkok
BEGIN:VEVENT
UID:78@menthanhgiahanoi.org
DTSTART;TZID=Asia/Bangkok:20250805T000000
DTEND;TZID=Asia/Bangkok:20250805T005900
DTSTAMP:20250616T011513Z
URL:https://menthanhgiahanoi.org/events/thu-ba-tuan-xviii-thuong-nien/
SUMMARY:Thứ Ba tuần XVIII thường niên
DESCRIPTION:“Xin truyền cho con đi trên mặt nước mà đến cùn
 g Thầy”.
ATTACH;FMTTYPE=image/jpeg:https://menthanhgiahanoi.org/wp-content/uploads/
 2024/07/Thu-3-tuan-18-TN.jpg
CATEGORIES:Lời Chúa hàng ngày,Tuần XVIII Thường niên
END:VEVENT
BEGIN:VTIMEZONE
TZID:Asia/Bangkok
X-LIC-LOCATION:Asia/Bangkok
BEGIN:STANDARD
DTSTART:20240805T000000
TZOFFSETFROM:+0700
TZOFFSETTO:+0700
TZNAME:+07
END:STANDARD
END:VTIMEZONE
END:VCALENDAR